BEGIN:VCALENDAR
VERSION:2.0
PRODID:-//Nytorp – Yoga, Healing, Samtalsterapi, Mindfulness - ECPv6.15.20//NONSGML v1.0//EN
CALSCALE:GREGORIAN
METHOD:PUBLISH
X-WR-CALNAME:Nytorp – Yoga, Healing, Samtalsterapi, Mindfulness
X-ORIGINAL-URL:https://nytorp.nu
X-WR-CALDESC:Händelser för Nytorp – Yoga, Healing, Samtalsterapi, Mindfulness
REFRESH-INTERVAL;VALUE=DURATION:PT1H
X-Robots-Tag:noindex
X-PUBLISHED-TTL:PT1H
BEGIN:VTIMEZONE
TZID:Europe/Stockholm
BEGIN:DAYLIGHT
TZOFFSETFROM:+0100
TZOFFSETTO:+0200
TZNAME:CEST
DTSTART:20220327T010000
END:DAYLIGHT
BEGIN:STANDARD
TZOFFSETFROM:+0200
TZOFFSETTO:+0100
TZNAME:CET
DTSTART:20221030T010000
END:STANDARD
BEGIN:DAYLIGHT
TZOFFSETFROM:+0100
TZOFFSETTO:+0200
TZNAME:CEST
DTSTART:20230326T010000
END:DAYLIGHT
BEGIN:STANDARD
TZOFFSETFROM:+0200
TZOFFSETTO:+0100
TZNAME:CET
DTSTART:20231029T010000
END:STANDARD
BEGIN:DAYLIGHT
TZOFFSETFROM:+0100
TZOFFSETTO:+0200
TZNAME:CEST
DTSTART:20240331T010000
END:DAYLIGHT
BEGIN:STANDARD
TZOFFSETFROM:+0200
TZOFFSETTO:+0100
TZNAME:CET
DTSTART:20241027T010000
END:STANDARD
END:VTIMEZONE
BEGIN:VEVENT
DTSTART;TZID=Europe/Stockholm:20230202T180000
DTEND;TZID=Europe/Stockholm:20230202T210000
DTSTAMP:20260426T014554
CREATED:20230108T145226Z
LAST-MODIFIED:20230108T145838Z
UID:2229-1675360800-1675371600@nytorp.nu
SUMMARY:Healingcirkel
DESCRIPTION:Välkommen till en healingcirkel du får ge och få grupphealing och du möter andra som är intresserade av andlig och personlig utveckling. Vi mediterar\, ger grupphealing och avslutar med gemensam fika.\nDonation 100:-
URL:https://nytorp.nu/event/healingcirkel/
LOCATION:Skåne län
CATEGORIES:Nytorp
ATTACH;FMTTYPE=image/jpeg:https://nytorp.nu/wp-content/uploads/2023/01/hjarta2.jpg
END:VEVENT
BEGIN:VEVENT
DTSTART;TZID=Europe/Stockholm:20230208T183000
DTEND;TZID=Europe/Stockholm:20230208T200000
DTSTAMP:20260426T014554
CREATED:20230108T144634Z
LAST-MODIFIED:20230108T144634Z
UID:2225-1675881000-1675886400@nytorp.nu
SUMMARY:Yoga på Nytorp
DESCRIPTION:Yoga på Nytorp är en yogastudio i vacker skogsmiljö där traditionell och modern yoga möts. En yogastudio för alla som erbjuder olika yogametoder. För mig innebär yoga kort uttryckt att kropp\, sinne\, andning och själ möts och jag läser av gruppen iför varje tillfälle. \nDet kommer att kosta 100:- per gång eller 1500:- för hela terminen. \nDu behöver ha lediga kläder och yogamatta om du vill ha din egen\, annars finns här att låna. \nDet finns begränsat antal platser så du behöver anmäla dig genom att ringa eller sms:a till 073 63 177 29 \nVarmt välkommen\nCecilia
URL:https://nytorp.nu/event/yoga-pa-nytorp-4/
LOCATION:Nytorp\, Nytorp 201\, Perstorp\, Skåne län\, 28491
CATEGORIES:Nytorp
ATTACH;FMTTYPE=image/jpeg:https://nytorp.nu/wp-content/uploads/2023/01/budha.jpg
END:VEVENT
BEGIN:VEVENT
DTSTART;TZID=Europe/Stockholm:20230215T183000
DTEND;TZID=Europe/Stockholm:20230215T200000
DTSTAMP:20260426T014554
CREATED:20230108T144846Z
LAST-MODIFIED:20230108T144846Z
UID:2227-1676485800-1676491200@nytorp.nu
SUMMARY:Yoga på Nytorp
DESCRIPTION:Yoga på Nytorp är en yogastudio i vacker skogsmiljö där traditionell och modern yoga möts. En yogastudio för alla som erbjuder olika yogametoder. För mig innebär yoga kort uttryckt att kropp\, sinne\, andning och själ möts och jag läser av gruppen iför varje tillfälle. \nDet kommer att kosta 100:- per gång eller 1500:- för hela terminen. \nDu behöver ha lediga kläder och yogamatta om du vill ha din egen\, annars finns här att låna. \nDet finns begränsat antal platser så du behöver anmäla dig genom att ringa eller sms:a till 073 63 177 29 \nVarmt välkommen\nCecilia
URL:https://nytorp.nu/event/yoga-pa-nytorp-5/
LOCATION:Nytorp\, Nytorp 201\, Perstorp\, Skåne län\, 28491
CATEGORIES:Nytorp
ATTACH;FMTTYPE=image/jpeg:https://nytorp.nu/wp-content/uploads/2023/01/budha.jpg
END:VEVENT
END:VCALENDAR