BEGIN:VCALENDAR
VERSION:2.0
PRODID:-//Nytorp – Yoga, Healing, Samtalsterapi, Mindfulness - ECPv6.15.20//NONSGML v1.0//EN
CALSCALE:GREGORIAN
METHOD:PUBLISH
X-WR-CALNAME:Nytorp – Yoga, Healing, Samtalsterapi, Mindfulness
X-ORIGINAL-URL:https://nytorp.nu
X-WR-CALDESC:Händelser för Nytorp – Yoga, Healing, Samtalsterapi, Mindfulness
REFRESH-INTERVAL;VALUE=DURATION:PT1H
X-Robots-Tag:noindex
X-PUBLISHED-TTL:PT1H
BEGIN:VTIMEZONE
TZID:Europe/Stockholm
BEGIN:DAYLIGHT
TZOFFSETFROM:+0100
TZOFFSETTO:+0200
TZNAME:CEST
DTSTART:20220327T010000
END:DAYLIGHT
BEGIN:STANDARD
TZOFFSETFROM:+0200
TZOFFSETTO:+0100
TZNAME:CET
DTSTART:20221030T010000
END:STANDARD
BEGIN:DAYLIGHT
TZOFFSETFROM:+0100
TZOFFSETTO:+0200
TZNAME:CEST
DTSTART:20230326T010000
END:DAYLIGHT
BEGIN:STANDARD
TZOFFSETFROM:+0200
TZOFFSETTO:+0100
TZNAME:CET
DTSTART:20231029T010000
END:STANDARD
BEGIN:DAYLIGHT
TZOFFSETFROM:+0100
TZOFFSETTO:+0200
TZNAME:CEST
DTSTART:20240331T010000
END:DAYLIGHT
BEGIN:STANDARD
TZOFFSETFROM:+0200
TZOFFSETTO:+0100
TZNAME:CET
DTSTART:20241027T010000
END:STANDARD
END:VTIMEZONE
BEGIN:VEVENT
DTSTART;TZID=Europe/Stockholm:20231014T140000
DTEND;TZID=Europe/Stockholm:20231014T170000
DTSTAMP:20260425T145635
CREATED:20230907T154006Z
LAST-MODIFIED:20230907T154303Z
UID:2845-1697292000-1697302800@nytorp.nu
SUMMARY:Healing och budskap med Samson och Cecilia
DESCRIPTION:Samson Teclemichael intuitiv healer med förmåga att se och tolka energier och symboler kommer hit till Nytorp. Tillsammans med Cecilia Biarner kommer de att hålla en healingcirkel där det också finns möjlighet till budskap.\nDe guidar ned till djup avslappning och där ger de healing till var och en. Healing ökar ditt energiflöde och cirkulation\, löser blockeringar och hjälper sinnet att återhämta sig. Du kan bli hjälpt av healing som stärker ditt inre helande arbete\, en vacker och läkande process för din unika själ. Healingen är alltid anpassad till dig och din situation. Här kan du släppa pressen att prestera och bara tillåta dig själv att ta emot healingen.\nVarmt Välkommen\nSamson och Cecilia\n\nKostnad: 300 kr\nKöp din biljet på jagbokar https://jagbokar.se/healing-och-budskap-med-samson-och…/\nDu är anmäld när du har bokat biljett
URL:https://nytorp.nu/event/healing-och-budskap-med-samson-och-cecilia/
LOCATION:Skåne län
CATEGORIES:Nytorp
ATTACH;FMTTYPE=image/jpeg:https://nytorp.nu/wp-content/uploads/2023/09/375316378_812916637286109_7406427229419413689_n.jpg
END:VEVENT
BEGIN:VEVENT
DTSTART;TZID=Europe/Stockholm:20231026T183000
DTEND;TZID=Europe/Stockholm:20231026T203000
DTSTAMP:20260425T145635
CREATED:20230907T153622Z
LAST-MODIFIED:20230907T153622Z
UID:2843-1698345000-1698352200@nytorp.nu
SUMMARY:Storseans med Ewa Olsson
DESCRIPTION:Nyfiken på andra sidan? Välkommen hit till Nytorp på en storseans där mediumet Ewa Olsson tar oss med på en resa där vi får glänta på dörren till andra sidan och få meddelande från andevärlden. Ewa har arbetat som medium i många år och är också känd genom tidningen Nära.\n\nKostnad: 375:- inklusive fika \nBiljetter\nhttps://jagbokar.se/storseans-med-ewa-olsson\n\n\nVarmt välkommen\nCecilia och Birger
URL:https://nytorp.nu/event/storseans-med-ewa-olsson-2/
LOCATION:Nytorp\, Nytorp 201\, Perstorp\, Skåne län\, 28491
CATEGORIES:Nytorp
ATTACH;FMTTYPE=image/jpeg:https://nytorp.nu/wp-content/uploads/2023/01/ewa-275x200-1.jpg
END:VEVENT
END:VCALENDAR