BEGIN:VCALENDAR
VERSION:2.0
PRODID:-//Nytorp – Yoga, Healing, Samtalsterapi, Mindfulness - ECPv6.15.20//NONSGML v1.0//EN
CALSCALE:GREGORIAN
METHOD:PUBLISH
X-ORIGINAL-URL:https://nytorp.nu
X-WR-CALDESC:Händelser för Nytorp – Yoga, Healing, Samtalsterapi, Mindfulness
REFRESH-INTERVAL;VALUE=DURATION:PT1H
X-Robots-Tag:noindex
X-PUBLISHED-TTL:PT1H
BEGIN:VTIMEZONE
TZID:Europe/Stockholm
BEGIN:DAYLIGHT
TZOFFSETFROM:+0100
TZOFFSETTO:+0200
TZNAME:CEST
DTSTART:20220327T010000
END:DAYLIGHT
BEGIN:STANDARD
TZOFFSETFROM:+0200
TZOFFSETTO:+0100
TZNAME:CET
DTSTART:20221030T010000
END:STANDARD
BEGIN:DAYLIGHT
TZOFFSETFROM:+0100
TZOFFSETTO:+0200
TZNAME:CEST
DTSTART:20230326T010000
END:DAYLIGHT
BEGIN:STANDARD
TZOFFSETFROM:+0200
TZOFFSETTO:+0100
TZNAME:CET
DTSTART:20231029T010000
END:STANDARD
BEGIN:DAYLIGHT
TZOFFSETFROM:+0100
TZOFFSETTO:+0200
TZNAME:CEST
DTSTART:20240331T010000
END:DAYLIGHT
BEGIN:STANDARD
TZOFFSETFROM:+0200
TZOFFSETTO:+0100
TZNAME:CET
DTSTART:20241027T010000
END:STANDARD
END:VTIMEZONE
BEGIN:VEVENT
DTSTART;TZID=Europe/Stockholm:20231111T090000
DTEND;TZID=Europe/Stockholm:20231111T173000
DTSTAMP:20260425T133803
CREATED:20230926T095131Z
LAST-MODIFIED:20230926T095131Z
UID:2874-1699693200-1699723800@nytorp.nu
SUMMARY:Tantra för nyfikna nybörjare
DESCRIPTION:Välkommen till Nytorp där vi skapar en dag för dig som är nyfiken på tantra vill veta mera. På ett tryggt och lekfullt sätt utforskar vi tillsammans grunderna i tantra.\nTantra är en nyckel till att vara mera närvarande och levande i allt vi gör. Vi kommer att göra meditationer för att landa att landa i oss själva\, våra hjärtan och vår kropp. Andningsövningar och lekfulla möten med oss själva och andra.\n\nVar: Nytorp kursgård\nNär: 11 november 9.00 – 17.30\nPris: 990:- inklusive fika och lunch\nBiiljett köper du på https://jagbokar.se/tantra-for-nyfikna-nyborjare/\n\nOm Cecilia och Birger: Vi har organiserat tantrafestivaler här på Nytorp och har lång erfarenhet av tantra. Cecilia är utbildad samtalsterapeut\, lärare i yoga och tantra och van att hålla space och workshops. Birger är utbildad samtalscoach\, reikihealer och tantralärare.
URL:https://nytorp.nu/event/tantra-for-nyfikna-nyborjare/
LOCATION:Nytorp\, Nytorp 201\, Perstorp\, Skåne län\, 28491
CATEGORIES:Nytorp
ATTACH;FMTTYPE=image/jpeg:https://nytorp.nu/wp-content/uploads/2023/09/288522086_10159756052900937_5659861770603811287_n.jpg
END:VEVENT
END:VCALENDAR